BEGIN:VCALENDAR
VERSION:2.0
PRODID:Eventkrake Wordpress Plugin @ BRN-Büro
METHOD:PUBLISH
BEGIN:VEVENT
CLASS:PUBLIC
TRANSP:OPAQUE
UID:ID3219-0@brn-buero.de
CATEGORIES:
LOCATION:Café Laika (Kamenzer Straße 20)
GEO:51.066872709002816;13.757801055908203
SUMMARY:Space Raptor
DESCRIPTION:
URL:https://brn-buero.de/event/space-raptor/
DTSTART:20180615T190000
DTEND:20180615T200000
DTSTAMP:20260422T150838
END:VEVENT
END:VCALENDAR