BEGIN:VCALENDAR
VERSION:2.0
PRODID:Eventkrake Wordpress Plugin @ BRN-Büro
METHOD:PUBLISH
BEGIN:VEVENT
CLASS:PUBLIC
TRANSP:OPAQUE
UID:ID3265-0@brn-buero.de
CATEGORIES:
LOCATION:Görlitzer Straße (Görlitzer Straße)
GEO:51.06771119879646;13.754711151123047
SUMMARY:Samba Universo & Friends
DESCRIPTION:
URL:https://brn-buero.de/event/samba-universo-friends/
DTSTART:20180617T133000
DTEND:20180617T153000
DTSTAMP:20260421T125605
END:VEVENT
END:VCALENDAR