BEGIN:VCALENDAR
VERSION:2.0
PRODID:Eventkrake Wordpress Plugin @ BRN-Büro
METHOD:PUBLISH
BEGIN:VEVENT
CLASS:PUBLIC
TRANSP:OPAQUE
UID:ID3304-0@brn-buero.de
CATEGORIES:
LOCATION:Merkwürden-Bühne (Alaunpark\, 01099 Dresden)
GEO:51.07189122210699;13.756849877536297
SUMMARY:The Pissed Ones
DESCRIPTION:
URL:https://brn-buero.de/event/the-pissed-ones/
DTSTART:20180616T193000
DTEND:20180616T200500
DTSTAMP:20260425T221611
END:VEVENT
END:VCALENDAR