BEGIN:VCALENDAR
VERSION:2.0
PRODID:Eventkrake Wordpress Plugin @ BRN-Büro
METHOD:PUBLISH
BEGIN:VEVENT
CLASS:PUBLIC
TRANSP:OPAQUE
UID:ID3463-0@brn-buero.de
CATEGORIES:
LOCATION:BRN-Tanzstube (Alaun Ecke Sebnitzer Straße (Parkplatz))
GEO:51.06918093517429;13.754271268844604
SUMMARY:Kiddo B. & Entourage ◀ B2B \ housige Neue Deutsche Welle | Vinyl
DESCRIPTION:
URL:https://brn-buero.de/event/entourage-%e2%97%80-deutsche/
DTSTART:20180615T170000
DTEND:20180615T193000
DTSTAMP:20260421T060506
END:VEVENT
END:VCALENDAR