BEGIN:VCALENDAR
VERSION:2.0
PRODID:Eventkrake Wordpress Plugin @ BRN-Büro
METHOD:PUBLISH
BEGIN:VEVENT
CLASS:PUBLIC
TRANSP:OPAQUE
UID:ID3469-0@brn-buero.de
CATEGORIES:
LOCATION:BRN-Tanzstube (Alaun Ecke Sebnitzer Straße (Parkplatz))
GEO:51.06918093517429;13.754271268844604
SUMMARY:Funky Flow & Wochenend Ingo ◀ Funky / Disco \ Alle Tanzen
DESCRIPTION:
URL:https://brn-buero.de/event/wochenend-%e2%97%80-tanzen/
DTSTART:20180616T120000
DTEND:20180616T140000
DTSTAMP:20260423T184522
END:VEVENT
END:VCALENDAR