BEGIN:VCALENDAR
VERSION:2.0
PRODID:Eventkrake Wordpress Plugin @ BRN-Büro
METHOD:PUBLISH
BEGIN:VEVENT
CLASS:PUBLIC
TRANSP:OPAQUE
UID:ID3473-0@brn-buero.de
CATEGORIES:
LOCATION:BRN-Tanzstube (Alaun Ecke Sebnitzer Straße (Parkplatz))
GEO:51.06918093517429;13.754271268844604
SUMMARY:Jungs aus der Schaft ◀ *live* Rap/HipHop Aem16 & mowtif
DESCRIPTION:
URL:https://brn-buero.de/event/schaft-%e2%97%80-hiphop/
DTSTART:20180616T193000
DTEND:20180616T210000
DTSTAMP:20260421T115010
END:VEVENT
END:VCALENDAR