BEGIN:VCALENDAR
VERSION:2.0
PRODID:Eventkrake Wordpress Plugin @ BRN-Büro
METHOD:PUBLISH
BEGIN:VEVENT
CLASS:PUBLIC
TRANSP:OPAQUE
UID:ID3535-0@brn-buero.de
CATEGORIES:
LOCATION:Goldenes Handwerk (Martin-Luther-Straße 3\, 01099 Dresden\, Deut
 schland)
GEO:51.0634668;13.755081300000029
SUMMARY:Astmatica
DESCRIPTION:
URL:https://brn-buero.de/event/astmatica/
DTSTART:20180616T213000
DTEND:20180616T230000
DTSTAMP:20260421T082841
END:VEVENT
END:VCALENDAR