BEGIN:VCALENDAR
VERSION:2.0
PRODID:Eventkrake Wordpress Plugin @ BRN-Büro
METHOD:PUBLISH
BEGIN:VEVENT
CLASS:PUBLIC
TRANSP:OPAQUE
UID:ID3538-0@brn-buero.de
CATEGORIES:
LOCATION:Goldenes Handwerk (Martin-Luther-Straße 3\, 01099 Dresden\, Deut
 schland)
GEO:51.0634668;13.755081300000029
SUMMARY:Die Eier von Satan
DESCRIPTION:
URL:https://brn-buero.de/event/die-eier-von-satan/
DTSTART:20180616T173000
DTEND:20180616T183000
DTSTAMP:20260421T102335
END:VEVENT
END:VCALENDAR