BEGIN:VCALENDAR
VERSION:2.0
PRODID:Eventkrake Wordpress Plugin @ BRN-Büro
METHOD:PUBLISH
BEGIN:VEVENT
CLASS:PUBLIC
TRANSP:OPAQUE
UID:ID3552-0@brn-buero.de
CATEGORIES:
LOCATION:scheune Nordkurve (Alaunstraße 36 - 40\, 01099 Dresden)
GEO:51.0662574;13.751652700000022
SUMMARY:Welle One Love
DESCRIPTION:
URL:https://brn-buero.de/event/welle-one-love/
DTSTART:20180616T193000
DTEND:20180616T213000
DTSTAMP:20260421T120217
END:VEVENT
END:VCALENDAR