BEGIN:VCALENDAR
VERSION:2.0
PRODID:Eventkrake Wordpress Plugin @ BRN-Büro
METHOD:PUBLISH
BEGIN:VEVENT
CLASS:PUBLIC
TRANSP:OPAQUE
UID:ID3632-0@brn-buero.de
CATEGORIES:
LOCATION:Sebnitzer Straße (Sebnitzer Str. dresden)
GEO:51.0684265;13.757101000000034
SUMMARY:Samba Universo & Friends
DESCRIPTION:
URL:https://brn-buero.de/event/samba-universo-friends-4/
DTSTART:20180616T180000
DTEND:20180616T190000
DTSTAMP:20260421T115030
END:VEVENT
END:VCALENDAR