BEGIN:VCALENDAR
VERSION:2.0
PRODID:Eventkrake Wordpress Plugin @ BRN-Büro
METHOD:PUBLISH
BEGIN:VEVENT
CLASS:PUBLIC
TRANSP:OPAQUE
UID:ID3663-0@brn-buero.de
CATEGORIES:
LOCATION:Katy’s Garage (Alaunstraße 48\, 01099 Dresden\, Deutschland)
GEO:51.06668999999999;13.751870000000054
SUMMARY:Einfach Ausrasten BRN Special mit DJ°Drykmaplay und DJ M3D
DESCRIPTION:
URL:https://brn-buero.de/event/einfach-ausrasten-djdrykmaplay/
DTSTART:20180616T180000
DTEND:20180617T010000
DTSTAMP:20260421T101330
END:VEVENT
END:VCALENDAR