BEGIN:VCALENDAR
VERSION:2.0
PRODID:Eventkrake Wordpress Plugin @ BRN-Büro
METHOD:PUBLISH
BEGIN:VEVENT
CLASS:PUBLIC
TRANSP:OPAQUE
UID:ID3697-0@brn-buero.de
CATEGORIES:
LOCATION:Sebnitzer Straße (Sebnitzer Str. dresden)
GEO:51.0684265;13.757101000000034
SUMMARY:Hula Hoop´s selber bauen !
DESCRIPTION:
URL:https://brn-buero.de/event/hoops-selber-bauen/
DTSTART:20180616T133000
DTEND:20180616T163000
DTSTAMP:20260421T143951
END:VEVENT
END:VCALENDAR