BEGIN:VCALENDAR
VERSION:2.0
PRODID:Eventkrake Wordpress Plugin @ BRN-Büro
METHOD:PUBLISH
BEGIN:VEVENT
CLASS:PUBLIC
TRANSP:OPAQUE
UID:ID3783-0@brn-buero.de
CATEGORIES:
LOCATION:Fiasko-Bühne (Görlitzer Str. 22\, Dresden)
GEO:51.068234601079105;13.755429983139038
SUMMARY:Zann
DESCRIPTION:
URL:https://brn-buero.de/event/zann/
DTSTART:20180616T200000
DTEND:20180616T204500
DTSTAMP:20260423T040611
END:VEVENT
END:VCALENDAR