BEGIN:VCALENDAR
VERSION:2.0
PRODID:Eventkrake Wordpress Plugin @ BRN-Büro
METHOD:PUBLISH
BEGIN:VEVENT
CLASS:PUBLIC
TRANSP:OPAQUE
UID:ID4002-0@brn-buero.de
CATEGORIES:
LOCATION:Bühne Sebnitzer 39 (Sebnitzer Str. 39\, 01099 Dresden\, Deutschl
 and)
GEO:51.06824437697451;13.757993102049113
SUMMARY:BRN-Tango
DESCRIPTION:
URL:https://brn-buero.de/event/brn-tango-3/
DTSTART:20190614T180000
DTEND:20190614T200000
DTSTAMP:20260424T022844
END:VEVENT
END:VCALENDAR