BEGIN:VCALENDAR
VERSION:2.0
PRODID:Eventkrake Wordpress Plugin @ BRN-Büro
METHOD:PUBLISH
BEGIN:VEVENT
CLASS:PUBLIC
TRANSP:OPAQUE
UID:ID4020-0@brn-buero.de
CATEGORIES:
LOCATION:Café Laika (Kamenzer Straße 20)
GEO:51.066872709002816;13.757801055908203
SUMMARY:DJ Pauli
DESCRIPTION:
URL:https://brn-buero.de/event/dj-pauli-2/
DTSTART:20190615T210000
DTEND:20190616T010000
DTSTAMP:20260421T150003
END:VEVENT
END:VCALENDAR