BEGIN:VCALENDAR
VERSION:2.0
PRODID:Eventkrake Wordpress Plugin @ BRN-Büro
METHOD:PUBLISH
BEGIN:VEVENT
CLASS:PUBLIC
TRANSP:OPAQUE
UID:ID4022-0@brn-buero.de
CATEGORIES:
LOCATION:Lollatalooza (Talstraße 8\, 01099 Dresden\, Deutschland)
GEO:51.0658305;13.75852020000002
SUMMARY:Tirabichi
DESCRIPTION:
URL:https://brn-buero.de/event/mambo-manifesto/
DTSTART:20190615T140000
DTEND:20190615T144500
DTSTAMP:20260421T163443
END:VEVENT
END:VCALENDAR