BEGIN:VCALENDAR
VERSION:2.0
PRODID:Eventkrake Wordpress Plugin @ BRN-Büro
METHOD:PUBLISH
BEGIN:VEVENT
CLASS:PUBLIC
TRANSP:OPAQUE
UID:ID4029-0@brn-buero.de
CATEGORIES:
LOCATION:Lollatalooza (Talstraße 8\, 01099 Dresden\, Deutschland)
GEO:51.0658305;13.75852020000002
SUMMARY:Tanzen mit Zille DJ Micha
DESCRIPTION:
URL:https://brn-buero.de/event/tanzen-mit-zille-micha/
DTSTART:20190615T220000
DTEND:20190616T000000
DTSTAMP:20260421T224221
END:VEVENT
END:VCALENDAR