BEGIN:VCALENDAR
VERSION:2.0
PRODID:Eventkrake Wordpress Plugin @ BRN-Büro
METHOD:PUBLISH
BEGIN:VEVENT
CLASS:PUBLIC
TRANSP:OPAQUE
UID:ID4038-0@brn-buero.de
CATEGORIES:
LOCATION:Bühne Spielplatz (Sebnitzer Str. 20-22\, 01099 Dresden\, Deutsch
 land)
GEO:51.0683455058517;13.756877303098918
SUMMARY:Lesung: Bartenders Guide von 1862
DESCRIPTION:
URL:https://brn-buero.de/event/lesung-bartenders-guide-1862/
DTSTART:20190615T140000
DTEND:20190615T150000
DTSTAMP:20260421T082749
END:VEVENT
END:VCALENDAR