BEGIN:VCALENDAR
VERSION:2.0
PRODID:Eventkrake Wordpress Plugin @ BRN-Büro
METHOD:PUBLISH
BEGIN:VEVENT
CLASS:PUBLIC
TRANSP:OPAQUE
UID:ID4130-0@brn-buero.de
CATEGORIES:
LOCATION:Bunte Ecke Tir Na N’og-Bühne (Alaunstraße 26\, 01099 Dresden\, D
 eutschland)
GEO:51.0651374;13.750072000000046
SUMMARY:Gio & Git.
DESCRIPTION:
URL:https://brn-buero.de/event/gio-git-2/
DTSTART:20190616T120000
DTEND:20190616T130000
DTSTAMP:20260421T132749
END:VEVENT
END:VCALENDAR