BEGIN:VCALENDAR
VERSION:2.0
PRODID:Eventkrake Wordpress Plugin @ BRN-Büro
METHOD:PUBLISH
BEGIN:VEVENT
CLASS:PUBLIC
TRANSP:OPAQUE
UID:ID4133-0@brn-buero.de
CATEGORIES:
LOCATION:Keltischer Pub Tir Na N’og (Bischofsweg 34\, 01099 Dresden\, Deu
 tschland)
GEO:51.070228;13.754106399999955
SUMMARY:Shipwreck Rats
DESCRIPTION:
URL:https://brn-buero.de/event/shipwreck-rats-4/
DTSTART:20190614T210000
DTEND:20190614T220000
DTSTAMP:20260421T115137
END:VEVENT
END:VCALENDAR