BEGIN:VCALENDAR
VERSION:2.0
PRODID:Eventkrake Wordpress Plugin @ BRN-Büro
METHOD:PUBLISH
BEGIN:VEVENT
CLASS:PUBLIC
TRANSP:OPAQUE
UID:ID4135-0@brn-buero.de
CATEGORIES:
LOCATION:Keltischer Pub Tir Na N’og (Bischofsweg 34\, 01099 Dresden\, Deu
 tschland)
GEO:51.070228;13.754106399999955
SUMMARY:Shipwreck Rats
DESCRIPTION:
URL:https://brn-buero.de/event/shipwreck-rats-5/
DTSTART:20190615T210000
DTEND:20190615T220000
DTSTAMP:20260421T131810
END:VEVENT
END:VCALENDAR