BEGIN:VCALENDAR
VERSION:2.0
PRODID:Eventkrake Wordpress Plugin @ BRN-Büro
METHOD:PUBLISH
BEGIN:VEVENT
CLASS:PUBLIC
TRANSP:OPAQUE
UID:ID4156-0@brn-buero.de
CATEGORIES:
LOCATION:Golden Door (Louisenstraße 56\, 01099 Dresden\, Deutschland)
GEO:51.065900566602686;13.755258589999357
SUMMARY:TrHYPE / DnB & Jungle
DESCRIPTION:
URL:https://brn-buero.de/event/trhype-dnb-jungle/
DTSTART:20190614T220000
DTEND:20190614T233000
DTSTAMP:20260422T084519
END:VEVENT
END:VCALENDAR