BEGIN:VCALENDAR
VERSION:2.0
PRODID:Eventkrake Wordpress Plugin @ BRN-Büro
METHOD:PUBLISH
BEGIN:VEVENT
CLASS:PUBLIC
TRANSP:OPAQUE
UID:ID4173-0@brn-buero.de
CATEGORIES:
LOCATION:Kulturenbühne (Martin-Luther-Platz\, 01099 Dresden)
GEO:51.06427871061581;13.756502866744995
SUMMARY:Jonny vom Dahl
DESCRIPTION:
URL:https://brn-buero.de/event/jonny-vom-dahl/
DTSTART:20190615T181500
DTEND:20190615T191500
DTSTAMP:20260422T113216
END:VEVENT
END:VCALENDAR