BEGIN:VCALENDAR
VERSION:2.0
PRODID:Eventkrake Wordpress Plugin @ BRN-Büro
METHOD:PUBLISH
BEGIN:VEVENT
CLASS:PUBLIC
TRANSP:OPAQUE
UID:ID4186-0@brn-buero.de
CATEGORIES:
LOCATION:Parkbühne (Martin-Luther-Platz\, 01099 Dresden )
GEO:51.0643348;13.75654099999997
SUMMARY:Daensn
DESCRIPTION:
URL:https://brn-buero.de/event/daensn/
DTSTART:20190614T211000
DTEND:20190614T221000
DTSTAMP:20260423T150418
END:VEVENT
END:VCALENDAR