BEGIN:VCALENDAR
VERSION:2.0
PRODID:Eventkrake Wordpress Plugin @ BRN-Büro
METHOD:PUBLISH
BEGIN:VEVENT
CLASS:PUBLIC
TRANSP:OPAQUE
UID:ID4190-0@brn-buero.de
CATEGORIES:
LOCATION:Parkbühne (Martin-Luther-Platz\, 01099 Dresden )
GEO:51.0643348;13.75654099999997
SUMMARY:Ines Hermann & Band
DESCRIPTION:
URL:https://brn-buero.de/event/ines-hermann-band/
DTSTART:20190615T153000
DTEND:20190615T163000
DTSTAMP:20260423T193505
END:VEVENT
END:VCALENDAR