BEGIN:VCALENDAR
VERSION:2.0
PRODID:Eventkrake Wordpress Plugin @ BRN-Büro
METHOD:PUBLISH
BEGIN:VEVENT
CLASS:PUBLIC
TRANSP:OPAQUE
UID:ID4212-0@brn-buero.de
CATEGORIES:
LOCATION:Die 100 (Alaunstraße 100\, 01099 Dresden)
GEO:51.0696706121908;13.754748702049255
SUMMARY:Monkey & Goat
DESCRIPTION:
URL:https://brn-buero.de/event/monkey-goat/
DTSTART:20190616T150000
DTEND:20190616T154500
DTSTAMP:20260425T213525
END:VEVENT
END:VCALENDAR