BEGIN:VCALENDAR
VERSION:2.0
PRODID:Eventkrake Wordpress Plugin @ BRN-Büro
METHOD:PUBLISH
BEGIN:VEVENT
CLASS:PUBLIC
TRANSP:OPAQUE
UID:ID4255-0@brn-buero.de
CATEGORIES:
LOCATION:Calzador Stage (Rothenburger Straße 32\, 01099 Dresden)
GEO:51.06513320441178;13.75337541103363
SUMMARY:PATRICK FRANKE aka dj milk (Exquisit Rec. / Berlin)
DESCRIPTION:
URL:https://brn-buero.de/event/patrick-franke-exquisit/
DTSTART:20180615T220000
DTEND:20180616T001500
DTSTAMP:20260419T151618
END:VEVENT
END:VCALENDAR