BEGIN:VCALENDAR
VERSION:2.0
PRODID:Eventkrake Wordpress Plugin @ BRN-Büro
METHOD:PUBLISH
BEGIN:VEVENT
CLASS:PUBLIC
TRANSP:OPAQUE
UID:ID4290-0@brn-buero.de
CATEGORIES:
LOCATION:Zockerbude Zuckerbunt (Louisenstraße 80\, 01099 Dresden)
GEO:51.06498999999999;13.758890000000065
SUMMARY:Die Unicorn-Verschwörung
DESCRIPTION:
URL:https://brn-buero.de/event/die-unicorn-verschwoerung/
DTSTART:20190615T160000
DTEND:20190615T170000
DTSTAMP:20260419T183030
END:VEVENT
END:VCALENDAR