BEGIN:VCALENDAR
VERSION:2.0
PRODID:Eventkrake Wordpress Plugin @ BRN-Büro
METHOD:PUBLISH
BEGIN:VEVENT
CLASS:PUBLIC
TRANSP:OPAQUE
UID:ID4293-0@brn-buero.de
CATEGORIES:
LOCATION:Hol Fix (Rothenburger Str. 38\, 01099 Dresden)
GEO:51.06558589999999;13.753618500000016
SUMMARY:Schindler & Jenke
DESCRIPTION:
URL:https://brn-buero.de/event/schindler-jenke-2/
DTSTART:20180616T140000
DTEND:20180616T160000
DTSTAMP:20260419T165252
END:VEVENT
END:VCALENDAR